BEGIN:VCALENDAR
VERSION:2.0
PRODID:-//Cornerstone Chapel - ECPv6.15.17.1//NONSGML v1.0//EN
CALSCALE:GREGORIAN
METHOD:PUBLISH
X-WR-CALNAME:Cornerstone Chapel
X-ORIGINAL-URL:https://cornerstonechapelevents.com
X-WR-CALDESC:Events for Cornerstone Chapel
REFRESH-INTERVAL;VALUE=DURATION:PT1H
X-Robots-Tag:noindex
X-PUBLISHED-TTL:PT1H
BEGIN:VTIMEZONE
TZID:UTC
BEGIN:STANDARD
TZOFFSETFROM:+0000
TZOFFSETTO:+0000
TZNAME:UTC
DTSTART:20200101T000000
END:STANDARD
END:VTIMEZONE
BEGIN:VEVENT
DTSTART;TZID=UTC:20221029T160000
DTEND;TZID=UTC:20221029T223000
DTSTAMP:20260420T013839
CREATED:20221020T023522Z
LAST-MODIFIED:20221020T023532Z
UID:678-1667059200-1667082600@cornerstonechapelevents.com
SUMMARY:Brough/Clark Wedding Reception
DESCRIPTION:
URL:https://cornerstonechapelevents.com/event/brough-clark-wedding-reception/
END:VEVENT
BEGIN:VEVENT
DTSTART;TZID=UTC:20210227T000000
DTEND;TZID=UTC:20210227T000000
DTSTAMP:20260420T013839
CREATED:20211024T200412Z
LAST-MODIFIED:20211024T200412Z
UID:291-1614384000-1614384000@cornerstonechapelevents.com
SUMMARY:February 27 – Rotary Daddy-Daughter Dance – Canceled
DESCRIPTION:
URL:https://cornerstonechapelevents.com/event/february-27-rotary-daddy-daughter-dance-canceled/
END:VEVENT
BEGIN:VEVENT
DTSTART;TZID=UTC:20210220T000000
DTEND;TZID=UTC:20210220T000000
DTSTAMP:20260420T013839
CREATED:20211024T200410Z
LAST-MODIFIED:20211024T200410Z
UID:290-1613779200-1613779200@cornerstonechapelevents.com
SUMMARY:February 20 – Welch/Sullivan Wedding/Reception-Canceled
DESCRIPTION:
URL:https://cornerstonechapelevents.com/event/february-20-welch-sullivan-wedding-reception-canceled/
END:VEVENT
BEGIN:VEVENT
DTSTART;TZID=UTC:20210202T000000
DTEND;TZID=UTC:20210202T000000
DTSTAMP:20260420T013839
CREATED:20211024T200410Z
LAST-MODIFIED:20211024T200410Z
UID:289-1612224000-1612224000@cornerstonechapelevents.com
SUMMARY:February 2 – Regional Soil Workshop – Canceled
DESCRIPTION:
URL:https://cornerstonechapelevents.com/event/february-2-regional-soil-workshop-canceled/
END:VEVENT
BEGIN:VEVENT
DTSTART;TZID=UTC:20210201T000000
DTEND;TZID=UTC:20210201T000000
DTSTAMP:20260420T013839
CREATED:20211024T200410Z
LAST-MODIFIED:20211024T200410Z
UID:288-1612137600-1612137600@cornerstonechapelevents.com
SUMMARY:February 1 – Wash. Co. SWCD Annual Mtg. – Canceled
DESCRIPTION:
URL:https://cornerstonechapelevents.com/event/february-1-wash-co-swcd-annual-mtg-canceled/
END:VEVENT
BEGIN:VEVENT
DTSTART;TZID=UTC:20210130T000000
DTEND;TZID=UTC:20210130T000000
DTSTAMP:20260420T013839
CREATED:20211024T200410Z
LAST-MODIFIED:20211024T200410Z
UID:287-1611964800-1611964800@cornerstonechapelevents.com
SUMMARY:January 30 – Annual Bridal Fair (1:00-3:00) – Postponed
DESCRIPTION:
URL:https://cornerstonechapelevents.com/event/january-30-annual-bridal-fair-100-300-postponed/
END:VEVENT
BEGIN:VEVENT
DTSTART;TZID=UTC:20210116T000000
DTEND;TZID=UTC:20210116T000000
DTSTAMP:20260420T013839
CREATED:20211024T200409Z
LAST-MODIFIED:20211024T200409Z
UID:286-1610755200-1610755200@cornerstonechapelevents.com
SUMMARY:January 16 – Extension Beef Program – Postponed
DESCRIPTION:
URL:https://cornerstonechapelevents.com/event/january-16-extension-beef-program-postponed/
END:VEVENT
END:VCALENDAR