BEGIN:VCALENDAR
VERSION:2.0
PRODID:-//Cornerstone Chapel - ECPv6.15.17.1//NONSGML v1.0//EN
CALSCALE:GREGORIAN
METHOD:PUBLISH
X-WR-CALNAME:Cornerstone Chapel
X-ORIGINAL-URL:https://cornerstonechapelevents.com
X-WR-CALDESC:Events for Cornerstone Chapel
REFRESH-INTERVAL;VALUE=DURATION:PT1H
X-Robots-Tag:noindex
X-PUBLISHED-TTL:PT1H
BEGIN:VTIMEZONE
TZID:UTC
BEGIN:STANDARD
TZOFFSETFROM:+0000
TZOFFSETTO:+0000
TZNAME:UTC
DTSTART:20200101T000000
END:STANDARD
END:VTIMEZONE
BEGIN:VEVENT
DTSTART;TZID=UTC:20231117T170000
DTEND;TZID=UTC:20231117T223000
DTSTAMP:20260420T062557
CREATED:20231002T020036Z
LAST-MODIFIED:20231012T021611Z
UID:781-1700240400-1700260200@cornerstonechapelevents.com
SUMMARY:Salem Speedway Banquet
DESCRIPTION:
URL:https://cornerstonechapelevents.com/event/salem-speedway-banquet-pending/
END:VEVENT
BEGIN:VEVENT
DTSTART;TZID=UTC:20231021T180000
DTEND;TZID=UTC:20231021T220000
DTSTAMP:20260420T062557
CREATED:20230701T182555Z
LAST-MODIFIED:20230710T021005Z
UID:741-1697911200-1697925600@cornerstonechapelevents.com
SUMMARY:Anniversary Party
DESCRIPTION:
URL:https://cornerstonechapelevents.com/event/anniversary-party-pending/
END:VEVENT
BEGIN:VEVENT
DTSTART;TZID=UTC:20230925T080000
DTEND;TZID=UTC:20230925T170000
DTSTAMP:20260420T062557
CREATED:20230909T135813Z
LAST-MODIFIED:20230909T135820Z
UID:772-1695628800-1695661200@cornerstonechapelevents.com
SUMMARY:JayC Management Mtg.
DESCRIPTION:
URL:https://cornerstonechapelevents.com/event/jayc-management-mtg-2/
END:VEVENT
BEGIN:VEVENT
DTSTART;TZID=UTC:20230913T073000
DTEND;TZID=UTC:20230913T170000
DTSTAMP:20260420T062557
CREATED:20230825T132025Z
LAST-MODIFIED:20230825T132052Z
UID:761-1694590200-1694624400@cornerstonechapelevents.com
SUMMARY:JayC Management Mtg.
DESCRIPTION:
URL:https://cornerstonechapelevents.com/event/jayc-management-mtg/
END:VEVENT
BEGIN:VEVENT
DTSTART;TZID=UTC:20230713T170000
DTEND;TZID=UTC:20230713T220000
DTSTAMP:20260420T062557
CREATED:20230210T031600Z
LAST-MODIFIED:20230210T031607Z
UID:710-1689267600-1689285600@cornerstonechapelevents.com
SUMMARY:Washington County Community Foundation Annual Mtg.
DESCRIPTION:
URL:https://cornerstonechapelevents.com/event/washington-county-community-foundation-annual-mtg/
END:VEVENT
BEGIN:VEVENT
DTSTART;VALUE=DATE:20230711
DTEND;VALUE=DATE:20230712
DTSTAMP:20260420T062557
CREATED:20230504T015202Z
LAST-MODIFIED:20230504T015213Z
UID:730-1689033600-1689119999@cornerstonechapelevents.com
SUMMARY:Indiana Master Farmer Award Banquet
DESCRIPTION:
URL:https://cornerstonechapelevents.com/event/indiana-master-farmer-award-banquet/
END:VEVENT
BEGIN:VEVENT
DTSTART;TZID=UTC:20230623T090000
DTEND;TZID=UTC:20230623T230000
DTSTAMP:20260420T062557
CREATED:20230210T034558Z
LAST-MODIFIED:20230210T034603Z
UID:717-1687510800-1687561200@cornerstonechapelevents.com
SUMMARY:Price/Marlman Wedding/Reception
DESCRIPTION:
URL:https://cornerstonechapelevents.com/event/price-marlman-wedding-reception/
END:VEVENT
BEGIN:VEVENT
DTSTART;TZID=UTC:20230622T170000
DTEND;TZID=UTC:20230622T213000
DTSTAMP:20260420T062557
CREATED:20230210T034320Z
LAST-MODIFIED:20230210T034320Z
UID:713-1687453200-1687469400@cornerstonechapelevents.com
SUMMARY:Price/Marlman Wedding Rehearsal
DESCRIPTION:
URL:https://cornerstonechapelevents.com/event/price-marlman-wedding-rehearsal/
END:VEVENT
BEGIN:VEVENT
DTSTART;TZID=UTC:20230415T170000
DTEND;TZID=UTC:20230415T230000
DTSTAMP:20260420T062557
CREATED:20220909T020725Z
LAST-MODIFIED:20220909T020731Z
UID:655-1681578000-1681599600@cornerstonechapelevents.com
SUMMARY:East Washington High School Prom
DESCRIPTION:
URL:https://cornerstonechapelevents.com/event/east-washington-high-school-prom/
END:VEVENT
BEGIN:VEVENT
DTSTART;TZID=UTC:20230312T080000
DTEND;TZID=UTC:20230312T170000
DTSTAMP:20260420T062557
CREATED:20230201T032136Z
LAST-MODIFIED:20230201T032142Z
UID:707-1678608000-1678640400@cornerstonechapelevents.com
SUMMARY:Graves Baby Shower
DESCRIPTION:
URL:https://cornerstonechapelevents.com/event/graves-baby-shower/
END:VEVENT
BEGIN:VEVENT
DTSTART;VALUE=DATE:20230305
DTEND;VALUE=DATE:20230306
DTSTAMP:20260420T062557
CREATED:20220722T030922Z
LAST-MODIFIED:20220722T030931Z
UID:631-1677974400-1678060799@cornerstonechapelevents.com
SUMMARY:America's Best Pageant
DESCRIPTION:
URL:https://cornerstonechapelevents.com/event/americas-best-pageant-2/
END:VEVENT
BEGIN:VEVENT
DTSTART;TZID=UTC:20230302T080000
DTEND;TZID=UTC:20230302T143000
DTSTAMP:20260420T062557
CREATED:20230126T112834Z
LAST-MODIFIED:20230126T112838Z
UID:698-1677744000-1677767400@cornerstonechapelevents.com
SUMMARY:Stewart Seed Mtg.
DESCRIPTION:
URL:https://cornerstonechapelevents.com/event/stewart-seed-mtg/
END:VEVENT
BEGIN:VEVENT
DTSTART;TZID=UTC:20230225T170000
DTEND;TZID=UTC:20230225T220000
DTSTAMP:20260420T062557
CREATED:20220909T020341Z
LAST-MODIFIED:20220909T020508Z
UID:653-1677344400-1677362400@cornerstonechapelevents.com
SUMMARY:Rotary Daddy Daughter Dance
DESCRIPTION:
URL:https://cornerstonechapelevents.com/event/rotary-daddy-daughter-dance/
END:VEVENT
BEGIN:VEVENT
DTSTART;TZID=UTC:20230211T120000
DTEND;TZID=UTC:20230211T180000
DTSTAMP:20260420T062557
CREATED:20230120T041026Z
LAST-MODIFIED:20230120T041031Z
UID:695-1676116800-1676138400@cornerstonechapelevents.com
SUMMARY:Conklin Baby Shower
DESCRIPTION:
URL:https://cornerstonechapelevents.com/event/conklin-baby-shower/
END:VEVENT
BEGIN:VEVENT
DTSTART;TZID=UTC:20230207T080000
DTEND;TZID=UTC:20230207T160000
DTSTAMP:20260420T062557
CREATED:20221004T030413Z
LAST-MODIFIED:20221004T030534Z
UID:663-1675756800-1675785600@cornerstonechapelevents.com
SUMMARY:NRCS Soil Health Workshop
DESCRIPTION:
URL:https://cornerstonechapelevents.com/event/washington-co-swcd-annual-mtg/
END:VEVENT
BEGIN:VEVENT
DTSTART;TZID=UTC:20230206T160000
DTEND;TZID=UTC:20230206T213000
DTSTAMP:20260420T062557
CREATED:20221004T030720Z
LAST-MODIFIED:20221004T030726Z
UID:667-1675699200-1675719000@cornerstonechapelevents.com
SUMMARY:Washington Co. SWCD Annual Mtg.
DESCRIPTION:
URL:https://cornerstonechapelevents.com/event/washington-co-swcd-annual-mtg-2/
END:VEVENT
BEGIN:VEVENT
DTSTART;TZID=UTC:20230128T130000
DTEND;TZID=UTC:20230128T150000
DTSTAMP:20260420T062557
CREATED:20220325T023800Z
LAST-MODIFIED:20220325T023839Z
UID:588-1674910800-1674918000@cornerstonechapelevents.com
SUMMARY:Cornerstone Hall Annual Bridal Fair
DESCRIPTION:
URL:https://cornerstonechapelevents.com/event/cornerstone-hall-annual-bridal-fair/
END:VEVENT
BEGIN:VEVENT
DTSTART;VALUE=DATE:20230121
DTEND;VALUE=DATE:20230122
DTSTAMP:20260420T062557
CREATED:20220221T033917Z
LAST-MODIFIED:20220221T033931Z
UID:557-1674259200-1674345599@cornerstonechapelevents.com
SUMMARY:Southern Indiana Junior Rodeo Association Awards Banquet
DESCRIPTION:
URL:https://cornerstonechapelevents.com/event/southern-indiana-junior-rodeo-association-awards-banquet/
END:VEVENT
BEGIN:VEVENT
DTSTART;TZID=UTC:20230104T160000
DTEND;TZID=UTC:20230104T210000
DTSTAMP:20260420T062557
CREATED:20221108T031415Z
LAST-MODIFIED:20221108T031424Z
UID:686-1672848000-1672866000@cornerstonechapelevents.com
SUMMARY:Becks Hybrids Grower Meeting
DESCRIPTION:
URL:https://cornerstonechapelevents.com/event/becks-hybrids-grower-meeting/
END:VEVENT
BEGIN:VEVENT
DTSTART;TZID=UTC:20221231T180000
DTEND;TZID=UTC:20221231T233000
DTSTAMP:20260420T062557
CREATED:20220117T150534Z
LAST-MODIFIED:20220117T150543Z
UID:475-1672509600-1672529400@cornerstonechapelevents.com
SUMMARY:Hanson/Barriger Wedding Reception
DESCRIPTION:
URL:https://cornerstonechapelevents.com/event/hanson-barriger-wedding-reception/
END:VEVENT
BEGIN:VEVENT
DTSTART;TZID=UTC:20221215T100000
DTEND;TZID=UTC:20221215T160000
DTSTAMP:20260420T062557
CREATED:20221208T030418Z
LAST-MODIFIED:20221208T030441Z
UID:692-1671098400-1671120000@cornerstonechapelevents.com
SUMMARY:Seed Corn Growers Meeting
DESCRIPTION:
URL:https://cornerstonechapelevents.com/event/seed-corn-growers-meeting/
END:VEVENT
BEGIN:VEVENT
DTSTART;TZID=UTC:20221211T080000
DTEND;TZID=UTC:20221211T170000
DTSTAMP:20260420T062557
CREATED:20221103T022107Z
LAST-MODIFIED:20221103T022114Z
UID:684-1670745600-1670778000@cornerstonechapelevents.com
SUMMARY:Salem Community Church Christmas Dinner
DESCRIPTION:
URL:https://cornerstonechapelevents.com/event/salem-community-church-christmas-dinner/
END:VEVENT
BEGIN:VEVENT
DTSTART;VALUE=DATE:20221210
DTEND;VALUE=DATE:20221211
DTSTAMP:20260420T062557
CREATED:20220909T014558Z
LAST-MODIFIED:20220909T014655Z
UID:648-1670630400-1670716799@cornerstonechapelevents.com
SUMMARY:Jeans Extrusions Company Party
DESCRIPTION:
URL:https://cornerstonechapelevents.com/event/jeans-extrusions-company-party/
END:VEVENT
BEGIN:VEVENT
DTSTART;TZID=UTC:20221209T170000
DTEND;TZID=UTC:20221209T220000
DTSTAMP:20260420T062557
CREATED:20221204T034738Z
LAST-MODIFIED:20221204T034749Z
UID:690-1670605200-1670623200@cornerstonechapelevents.com
SUMMARY:Cornerstone Farms Christmas Party
DESCRIPTION:
URL:https://cornerstonechapelevents.com/event/cornerstone-farms-christmas-party/
END:VEVENT
BEGIN:VEVENT
DTSTART;TZID=UTC:20221207T090000
DTEND;TZID=UTC:20221207T140000
DTSTAMP:20260420T062557
CREATED:20220825T030629Z
LAST-MODIFIED:20220830T021924Z
UID:638-1670403600-1670421600@cornerstonechapelevents.com
SUMMARY:East Washington Middle School Great Shake
DESCRIPTION:
URL:https://cornerstonechapelevents.com/event/east-washington-middle-school-great-shake-2/
END:VEVENT
BEGIN:VEVENT
DTSTART;VALUE=DATE:20221204
DTEND;VALUE=DATE:20221205
DTSTAMP:20260420T062557
CREATED:20220722T030357Z
LAST-MODIFIED:20220722T030738Z
UID:629-1670112000-1670198399@cornerstonechapelevents.com
SUMMARY:America's Best Pageant
DESCRIPTION:
URL:https://cornerstonechapelevents.com/event/americas-best-pageant/
END:VEVENT
BEGIN:VEVENT
DTSTART;TZID=UTC:20221117T170000
DTEND;TZID=UTC:20221117T223000
DTSTAMP:20260420T062557
CREATED:20221110T030600Z
LAST-MODIFIED:20221110T030616Z
UID:688-1668704400-1668724200@cornerstonechapelevents.com
SUMMARY:Washington Co. Chamber of Commerce Annual Mtg.
DESCRIPTION:
URL:https://cornerstonechapelevents.com/event/washington-co-chamber-of-commerce-annual-mtg/
END:VEVENT
BEGIN:VEVENT
DTSTART;TZID=UTC:20221113T130000
DTEND;TZID=UTC:20221113T170000
DTSTAMP:20260420T062557
CREATED:20220927T024540Z
LAST-MODIFIED:20220927T024548Z
UID:658-1668344400-1668358800@cornerstonechapelevents.com
SUMMARY:Celebration of Life for Maurice Lee Day
DESCRIPTION:
URL:https://cornerstonechapelevents.com/event/celebration-of-life-for-maurice-lee-day/
END:VEVENT
BEGIN:VEVENT
DTSTART;TZID=UTC:20221029T160000
DTEND;TZID=UTC:20221029T223000
DTSTAMP:20260420T062557
CREATED:20221020T023522Z
LAST-MODIFIED:20221020T023532Z
UID:678-1667059200-1667082600@cornerstonechapelevents.com
SUMMARY:Brough/Clark Wedding Reception
DESCRIPTION:
URL:https://cornerstonechapelevents.com/event/brough-clark-wedding-reception/
END:VEVENT
BEGIN:VEVENT
DTSTART;TZID=UTC:20210227T000000
DTEND;TZID=UTC:20210227T000000
DTSTAMP:20260420T062557
CREATED:20211024T200412Z
LAST-MODIFIED:20211024T200412Z
UID:291-1614384000-1614384000@cornerstonechapelevents.com
SUMMARY:February 27 – Rotary Daddy-Daughter Dance – Canceled
DESCRIPTION:
URL:https://cornerstonechapelevents.com/event/february-27-rotary-daddy-daughter-dance-canceled/
END:VEVENT
END:VCALENDAR