BEGIN:VCALENDAR
VERSION:2.0
PRODID:-//Cornerstone Chapel - ECPv6.15.17.1//NONSGML v1.0//EN
CALSCALE:GREGORIAN
METHOD:PUBLISH
X-WR-CALNAME:Cornerstone Chapel
X-ORIGINAL-URL:https://cornerstonechapelevents.com
X-WR-CALDESC:Events for Cornerstone Chapel
REFRESH-INTERVAL;VALUE=DURATION:PT1H
X-Robots-Tag:noindex
X-PUBLISHED-TTL:PT1H
BEGIN:VTIMEZONE
TZID:UTC
BEGIN:STANDARD
TZOFFSETFROM:+0000
TZOFFSETTO:+0000
TZNAME:UTC
DTSTART:20230101T000000
END:STANDARD
END:VTIMEZONE
BEGIN:VEVENT
DTSTART;TZID=UTC:20250222T080000
DTEND;TZID=UTC:20250222T220000
DTSTAMP:20260419T211633
CREATED:20240629T025546Z
LAST-MODIFIED:20240629T025559Z
UID:870-1740211200-1740261600@cornerstonechapelevents.com
SUMMARY:Rotary's Daddy/Daughter Dance
DESCRIPTION:
URL:https://cornerstonechapelevents.com/event/rotarys-daddy-daughter-dance/
END:VEVENT
BEGIN:VEVENT
DTSTART;TZID=UTC:20250204T080000
DTEND;TZID=UTC:20250204T170000
DTSTAMP:20260419T211633
CREATED:20241121T033205Z
LAST-MODIFIED:20241121T033214Z
UID:916-1738656000-1738688400@cornerstonechapelevents.com
SUMMARY:District Soil Health Workshop
DESCRIPTION:
URL:https://cornerstonechapelevents.com/event/district-soil-health-workshop/
END:VEVENT
BEGIN:VEVENT
DTSTART;TZID=UTC:20250203T170000
DTEND;TZID=UTC:20250203T213000
DTSTAMP:20260419T211633
CREATED:20241121T033017Z
LAST-MODIFIED:20241121T033017Z
UID:914-1738602000-1738618200@cornerstonechapelevents.com
SUMMARY:Washington Co. SWCD Annual Mtg.
DESCRIPTION:
URL:https://cornerstonechapelevents.com/event/washington-co-swcd-annual-mtg-5/
END:VEVENT
BEGIN:VEVENT
DTSTART;TZID=UTC:20250125T080000
DTEND;TZID=UTC:20250125T170000
DTSTAMP:20260419T211633
CREATED:20240629T025821Z
LAST-MODIFIED:20240629T025837Z
UID:873-1737792000-1737824400@cornerstonechapelevents.com
SUMMARY:Cornerstone Hall's Annual Bridal Fair  1:00-3:00p.m.
DESCRIPTION:
URL:https://cornerstonechapelevents.com/event/cornerstone-halls-annual-bridal-fair-100-300p-m/
END:VEVENT
BEGIN:VEVENT
DTSTART;TZID=UTC:20250108T170000
DTEND;TZID=UTC:20250108T213000
DTSTAMP:20260419T211633
CREATED:20241105T034641Z
LAST-MODIFIED:20241105T034659Z
UID:909-1736355600-1736371800@cornerstonechapelevents.com
SUMMARY:Beck's Seed Growers Mtg.
DESCRIPTION:
URL:https://cornerstonechapelevents.com/event/becks-seed-growers-mtg-2/
END:VEVENT
BEGIN:VEVENT
DTSTART;TZID=UTC:20241228T180000
DTEND;TZID=UTC:20241228T230000
DTSTAMP:20260419T211633
CREATED:20230825T132244Z
LAST-MODIFIED:20230825T132251Z
UID:764-1735408800-1735426800@cornerstonechapelevents.com
SUMMARY:Miller/Day Wedding Reception
DESCRIPTION:
URL:https://cornerstonechapelevents.com/event/miller-day-wedding-reception/
END:VEVENT
BEGIN:VEVENT
DTSTART;TZID=UTC:20241227T170000
DTEND;TZID=UTC:20241227T210000
DTSTAMP:20260419T211633
CREATED:20231219T034745Z
LAST-MODIFIED:20231219T034754Z
UID:824-1735318800-1735333200@cornerstonechapelevents.com
SUMMARY:Miller/Day Wedding Rehearsal
DESCRIPTION:
URL:https://cornerstonechapelevents.com/event/miller-day-wedding-rehearsal/
END:VEVENT
BEGIN:VEVENT
DTSTART;TZID=UTC:20241215T080000
DTEND;TZID=UTC:20241215T170000
DTSTAMP:20260419T211633
CREATED:20241101T022057Z
LAST-MODIFIED:20241101T022145Z
UID:906-1734249600-1734282000@cornerstonechapelevents.com
SUMMARY:Salem Community Church
DESCRIPTION:
URL:https://cornerstonechapelevents.com/event/salem-community-church/
END:VEVENT
BEGIN:VEVENT
DTSTART;VALUE=DATE:20241214
DTEND;VALUE=DATE:20241215
DTSTAMP:20260419T211633
CREATED:20240918T024413Z
LAST-MODIFIED:20240918T024421Z
UID:885-1734134400-1734220799@cornerstonechapelevents.com
SUMMARY:Jean's Extrusions Co. Christmas Parties
DESCRIPTION:
URL:https://cornerstonechapelevents.com/event/jeans-extrusions-co-christmas-parties/
END:VEVENT
BEGIN:VEVENT
DTSTART;TZID=UTC:20241212T170000
DTEND;TZID=UTC:20241212T210000
DTSTAMP:20260419T211633
CREATED:20241109T051806Z
LAST-MODIFIED:20241109T051815Z
UID:912-1734022800-1734037200@cornerstonechapelevents.com
SUMMARY:Retirement Party
DESCRIPTION:
URL:https://cornerstonechapelevents.com/event/retirement-party/
END:VEVENT
BEGIN:VEVENT
DTSTART;TZID=UTC:20241208T150000
DTEND;TZID=UTC:20241208T220000
DTSTAMP:20260419T211633
CREATED:20240816T022442Z
LAST-MODIFIED:20240816T022452Z
UID:879-1733670000-1733695200@cornerstonechapelevents.com
SUMMARY:Salem Lions Backers Annual Banquet
DESCRIPTION:
URL:https://cornerstonechapelevents.com/event/salem-lions-backers-annual-banquet/
END:VEVENT
BEGIN:VEVENT
DTSTART;VALUE=DATE:20241102
DTEND;VALUE=DATE:20241103
DTSTAMP:20260419T211633
CREATED:20240521T031215Z
LAST-MODIFIED:20240525T025609Z
UID:863-1730505600-1730591999@cornerstonechapelevents.com
SUMMARY:Hardin/Alexander Wedding/Reception
DESCRIPTION:
URL:https://cornerstonechapelevents.com/event/hardin-alexander-wedding-reception-pending/
END:VEVENT
BEGIN:VEVENT
DTSTART;TZID=UTC:20241021T160000
DTEND;TZID=UTC:20241021T213000
DTSTAMP:20260419T211633
CREATED:20240917T030106Z
LAST-MODIFIED:20240917T030113Z
UID:883-1729526400-1729546200@cornerstonechapelevents.com
SUMMARY:Purdue Extension - Washington County Annual Mtg.
DESCRIPTION:
URL:https://cornerstonechapelevents.com/event/purdue-extension-washington-county-annual-mtg/
END:VEVENT
BEGIN:VEVENT
DTSTART;TZID=UTC:20240913T160000
DTEND;TZID=UTC:20240913T223000
DTSTAMP:20260419T211633
CREATED:20240816T022001Z
LAST-MODIFIED:20240816T022010Z
UID:876-1726243200-1726266600@cornerstonechapelevents.com
SUMMARY:White/Ball Wedding Reception
DESCRIPTION:
URL:https://cornerstonechapelevents.com/event/white-ball-wedding-reception/
END:VEVENT
BEGIN:VEVENT
DTSTART;TZID=UTC:20240720T100000
DTEND;TZID=UTC:20240720T230000
DTSTAMP:20260419T211633
CREATED:20230831T023211Z
LAST-MODIFIED:20231203T023228Z
UID:767-1721469600-1721516400@cornerstonechapelevents.com
SUMMARY:Underwood/Kaiser Wedding/Reception
DESCRIPTION:
URL:https://cornerstonechapelevents.com/event/underwood-wedding-reception/
END:VEVENT
BEGIN:VEVENT
DTSTART;TZID=UTC:20240718T160000
DTEND;TZID=UTC:20240718T220000
DTSTAMP:20260419T211633
CREATED:20240112T031931Z
LAST-MODIFIED:20240112T031942Z
UID:827-1721318400-1721340000@cornerstonechapelevents.com
SUMMARY:Washington Co. Community  Foundation Annual Mtg.
DESCRIPTION:
URL:https://cornerstonechapelevents.com/event/washington-co-community-foundation-annual-mtg/
END:VEVENT
BEGIN:VEVENT
DTSTART;VALUE=DATE:20240619
DTEND;VALUE=DATE:20240620
DTSTAMP:20260419T211633
CREATED:20240503T020653Z
LAST-MODIFIED:20240503T020703Z
UID:852-1718755200-1718841599@cornerstonechapelevents.com
SUMMARY:Walmart Mgmt. Mtg.
DESCRIPTION:
URL:https://cornerstonechapelevents.com/event/walmart-mgmt-mtg/
END:VEVENT
BEGIN:VEVENT
DTSTART;VALUE=DATE:20240614
DTEND;VALUE=DATE:20240615
DTSTAMP:20260419T211633
CREATED:20240605T024222Z
LAST-MODIFIED:20240605T024231Z
UID:867-1718323200-1718409599@cornerstonechapelevents.com
SUMMARY:JayC Stores Management Mtg.
DESCRIPTION:
URL:https://cornerstonechapelevents.com/event/jayc-stores-management-mtg/
END:VEVENT
BEGIN:VEVENT
DTSTART;TZID=UTC:20240525T120000
DTEND;TZID=UTC:20240525T200000
DTSTAMP:20260419T211633
CREATED:20230528T192828Z
LAST-MODIFIED:20230528T192836Z
UID:738-1716638400-1716667200@cornerstonechapelevents.com
SUMMARY:Graduation Party
DESCRIPTION:
URL:https://cornerstonechapelevents.com/event/graduation-party/
END:VEVENT
BEGIN:VEVENT
DTSTART;VALUE=DATE:20240518
DTEND;VALUE=DATE:20240519
DTSTAMP:20260419T211633
CREATED:20240318T030110Z
LAST-MODIFIED:20240318T030124Z
UID:843-1715990400-1716076799@cornerstonechapelevents.com
SUMMARY:Parker Wedding/Reception
DESCRIPTION:
URL:https://cornerstonechapelevents.com/event/parker-wedding-reception/
END:VEVENT
BEGIN:VEVENT
DTSTART;TZID=UTC:20240517T173000
DTEND;TZID=UTC:20240517T220000
DTSTAMP:20260419T211633
CREATED:20240317T025403Z
LAST-MODIFIED:20240317T025410Z
UID:841-1715967000-1715983200@cornerstonechapelevents.com
SUMMARY:Antique Car Club Banquet
DESCRIPTION:
URL:https://cornerstonechapelevents.com/event/antique-car-club-banquet/
END:VEVENT
BEGIN:VEVENT
DTSTART;TZID=UTC:20240512T113000
DTEND;TZID=UTC:20240512T140000
DTSTAMP:20260419T211633
CREATED:20240417T023423Z
LAST-MODIFIED:20240417T023433Z
UID:850-1715513400-1715522400@cornerstonechapelevents.com
SUMMARY:Mother's Day Buffet Dinner  (11:30 - 2:00) Call Robin for Reservation (812-620-7291)
DESCRIPTION:
URL:https://cornerstonechapelevents.com/event/mothers-day-buffet-dinner-1130-200-call-robin-for-reservation-812-620-7291/
END:VEVENT
BEGIN:VEVENT
DTSTART;TZID=UTC:20240511T170000
DTEND;TZID=UTC:20240511T220000
DTSTAMP:20260419T211633
CREATED:20240417T022653Z
LAST-MODIFIED:20240417T022717Z
UID:848-1715446800-1715464800@cornerstonechapelevents.com
SUMMARY:Salem 8th Grade Dance
DESCRIPTION:
URL:https://cornerstonechapelevents.com/event/salem-8th-grade-dance/
END:VEVENT
BEGIN:VEVENT
DTSTART;TZID=UTC:20240427T170000
DTEND;TZID=UTC:20240427T230000
DTSTAMP:20260419T211633
CREATED:20230428T022002Z
LAST-MODIFIED:20230428T022243Z
UID:727-1714237200-1714258800@cornerstonechapelevents.com
SUMMARY:Salem High School Prom
DESCRIPTION:
URL:https://cornerstonechapelevents.com/event/salem-high-school-prom/
END:VEVENT
BEGIN:VEVENT
DTSTART;TZID=UTC:20240426T180000
DTEND;TZID=UTC:20240426T213000
DTSTAMP:20260419T211633
CREATED:20230822T024609Z
LAST-MODIFIED:20230822T024621Z
UID:756-1714154400-1714167000@cornerstonechapelevents.com
SUMMARY:Eastern Middle School Dance
DESCRIPTION:
URL:https://cornerstonechapelevents.com/event/eastern-middle-school-dance/
END:VEVENT
BEGIN:VEVENT
DTSTART;VALUE=DATE:20240424
DTEND;VALUE=DATE:20240425
DTSTAMP:20260419T211633
CREATED:20240318T143747Z
LAST-MODIFIED:20240318T143755Z
UID:845-1713916800-1714003199@cornerstonechapelevents.com
SUMMARY:Kroger/JayC Management Mtgs. April 24 and 25
DESCRIPTION:
URL:https://cornerstonechapelevents.com/event/kroger-jayc-management-mtgs-april-24-and-25/
END:VEVENT
BEGIN:VEVENT
DTSTART;TZID=UTC:20240413T170000
DTEND;TZID=UTC:20240413T230000
DTSTAMP:20260419T211633
CREATED:20230428T021819Z
LAST-MODIFIED:20230428T021831Z
UID:725-1713027600-1713049200@cornerstonechapelevents.com
SUMMARY:Eastern High School Prom
DESCRIPTION:
URL:https://cornerstonechapelevents.com/event/eastern-high-school-prom/
END:VEVENT
BEGIN:VEVENT
DTSTART;VALUE=DATE:20240408
DTEND;VALUE=DATE:20240409
DTSTAMP:20260419T211633
CREATED:20230712T025530Z
LAST-MODIFIED:20230712T025537Z
UID:747-1712534400-1712620799@cornerstonechapelevents.com
SUMMARY:Cornerstone Hall Solar Eclipse Viewing (Reservations 812-620-2660)
DESCRIPTION:
URL:https://cornerstonechapelevents.com/event/cornerstone-hall-solar-eclipse-viewing-reservations-812-620-2660/
END:VEVENT
BEGIN:VEVENT
DTSTART;TZID=UTC:20240313T090000
DTEND;TZID=UTC:20240313T170000
DTSTAMP:20260419T211633
CREATED:20240207T033104Z
LAST-MODIFIED:20240207T033114Z
UID:836-1710320400-1710349200@cornerstonechapelevents.com
SUMMARY:Bayer Growers Mtg.
DESCRIPTION:
URL:https://cornerstonechapelevents.com/event/bayer-growers-mtg/
END:VEVENT
BEGIN:VEVENT
DTSTART;TZID=UTC:20240224T170000
DTEND;TZID=UTC:20240224T223000
DTSTAMP:20260419T211633
CREATED:20231203T023543Z
LAST-MODIFIED:20231203T023601Z
UID:821-1708794000-1708813800@cornerstonechapelevents.com
SUMMARY:Rotary Daddy-Daughter Dance
DESCRIPTION:
URL:https://cornerstonechapelevents.com/event/rotary-daddy-daughter-dance-3/
END:VEVENT
END:VCALENDAR